BEGIN:VCALENDAR
VERSION:2.0
PRODID:Events Booking
BEGIN:VEVENT
UID:69e94df0d30c7
SUMMARY:DIPLOME PREPARATION CAP ESTHETIQUE COSMETIQUE PARFUMERIE EN 1 AN
DESCRIPTION:Description
 DIPLOME PREPARATION CAP ESTHETIQUE COSMETIQUE PAR
 FUMERIE EN 1 AN -Vous accompagner pour l'obtention de votre CAP en candida
 t libre sur une durée de 1 an.-Cours de pratique durant toute l'année ch
 aque vendredi une fois par mois-3 SemaineS intensive de 3 jours-R... En sa
 voir plus
 18 Jour(s) À partir de 3000.00€ -
LOCATION:83500 Provence-Alpes-Côte d'Azur\, France
DTSTART:20270925T000000Z
DTSTAMP:20251103T152150Z
ORGANIZER;CN=Institut O'ZEN dermo clinic spa et centre de formation:MAILTO:
 contact@formationsozen.com
GEO:43.100771;5.878895
X-APPLE-STRUCTURED-LOCATION;VALUE=URI;X-ADDRESS=83500 Provence-Alpes-Côte 
 d'Azur\, France;X-APPLE-RADIUS=72;X-TITLE=Institut O zen dermo clinic Spa 
 et centre de formation:43.100771;5.878895
END:VEVENT
END:VCALENDAR