BEGIN:VCALENDAR
VERSION:2.0
PRODID:Events Booking
BEGIN:VEVENT
UID:69e9ecc57f95c
SUMMARY:FORMATION AMINCISSANT et ANTI AGE LIPOCAVITATION et RADIOFREQUENCE 
 SUR 1 JOUR
DESCRIPTION:Description
 FORMATION LIPOCAVITATION ET RADIOFREQUENCE AVEC A
 TTESTATION DE COMPETENCE A LA CLE... En savoir plus
 1 Jour(s) À partir 
 de 250.00€
LOCATION:83500 Provence-Alpes-Côte d'Azur\, France
DTSTART:20281219T000000Z
DTSTAMP:20251103T163507Z
ORGANIZER;CN=Institut O'ZEN dermo clinic spa et centre de formation:MAILTO:
 contact@formationsozen.com
GEO:43.100771;5.878895
X-APPLE-STRUCTURED-LOCATION;VALUE=URI;X-ADDRESS=83500 Provence-Alpes-Côte 
 d'Azur\, France;X-APPLE-RADIUS=72;X-TITLE=Institut O zen dermo clinic Spa 
 et centre de formation:43.100771;5.878895
END:VEVENT
END:VCALENDAR