BEGIN:VCALENDAR
VERSION:2.0
PRODID:Events Booking
BEGIN:VEVENT
UID:69e980d9b62dc
SUMMARY:FORMATION COACHING EN 1 JOUR BIEN DEVELLOPPER SA CLIENTELE
DESCRIPTION:Description
 Formation Construisez une stratégie commerciale 
 percutante et développez votre activité 
 Public : Esthéticiennes\, p
 assionnées de la beauté et du bien-être\, personnes désirant faire une
  reconversio... En savoir plus
 1 Jour(s) À partir de 200.00€ -
LOCATION:83500 Provence-Alpes-Côte d'Azur\, France
DTSTART:20280911T000000Z
DTSTAMP:20251103T153857Z
ORGANIZER;CN=Institut O'ZEN dermo clinic spa et centre de formation:MAILTO:
 contact@formationsozen.com
GEO:43.100771;5.878895
X-APPLE-STRUCTURED-LOCATION;VALUE=URI;X-ADDRESS=83500 Provence-Alpes-Côte 
 d'Azur\, France;X-APPLE-RADIUS=72;X-TITLE=Institut O zen dermo clinic Spa 
 et centre de formation:43.100771;5.878895
END:VEVENT
END:VCALENDAR