BEGIN:VCALENDAR
VERSION:2.0
PRODID:Events Booking
BEGIN:VEVENT
UID:69e954b727d1e
SUMMARY:FORMATION COMPLETE PRATICIEN SPA / BIEN ETRE MASSAGE EN 8 JOURS
DESCRIPTION:Description
 Passionné(e) par l’univers du bien-être et an
 imé(e) par l’envie de prendre soin des autres\, le métier de praticien
  en spa semble idéal.Les débouchés professionnelsLe praticien peut exer
 cer au sein... En savoir plus
 8 Jour(s) À partir de 2000.00€
LOCATION:83500 Provence-Alpes-Côte d'Azur\, France
DTSTART:20280818T000000Z
DTSTAMP:20251103T153141Z
ORGANIZER;CN=Institut O'ZEN dermo clinic spa et centre de formation:MAILTO:
 contact@formationsozen.com
GEO:43.100771;5.878895
X-APPLE-STRUCTURED-LOCATION;VALUE=URI;X-ADDRESS=83500 Provence-Alpes-Côte 
 d'Azur\, France;X-APPLE-RADIUS=72;X-TITLE=Institut O zen dermo clinic Spa 
 et centre de formation:43.100771;5.878895
END:VEVENT
END:VCALENDAR