BEGIN:VCALENDAR
VERSION:2.0
PRODID:Events Booking
BEGIN:VEVENT
UID:69e9540535112
SUMMARY:FORMATION EXTENTION DE CILS A CILS OU VOLUME RUSSE SUR 2 JOURS
DESCRIPTION:Description
 FORMATION EXTENTION DE CILS SUR 2 JOURS avec atte
 station de compétence à la clé.... En savoir plus
 2 Jour(s) À partir
  de 500.00€
LOCATION:83500 Provence-Alpes-Côte d'Azur\, France
DTSTART:20280815T000000Z
DTSTAMP:20251103T163731Z
ORGANIZER;CN=Institut O'ZEN dermo clinic spa et centre de formation:MAILTO:
 contact@formationsozen.com
GEO:43.100771;5.878895
X-APPLE-STRUCTURED-LOCATION;VALUE=URI;X-ADDRESS=83500 Provence-Alpes-Côte 
 d'Azur\, France;X-APPLE-RADIUS=72;X-TITLE=Institut O zen dermo clinic Spa 
 et centre de formation:43.100771;5.878895
END:VEVENT
END:VCALENDAR