BEGIN:VCALENDAR
VERSION:2.0
PRODID:Events Booking
BEGIN:VEVENT
UID:69e9ebde29c42
SUMMARY:FORMATION MADEROTHERAPIE CORPS AMINCISSANTS EN 2 JOURS
DESCRIPTION:Description
 Formation sur 2 jour avec attestation de compéte
 nces à la clé. Cette technique consiste en un massage intense réalisé 
 avec des instruments en bois de différentes tailles et formes\, spéciale
 ment conçu... En savoir plus
 2 Jour(s) À partir de 800.00€
LOCATION:83500 Provence-Alpes-Côte d'Azur\, France
DTSTART:20281227T000000Z
DTSTAMP:20251103T154154Z
ORGANIZER;CN=Institut O'ZEN dermo clinic spa et centre de formation:MAILTO:
 contact@formationsozen.com
GEO:43.100771;5.878895
X-APPLE-STRUCTURED-LOCATION;VALUE=URI;X-ADDRESS=83500 Provence-Alpes-Côte 
 d'Azur\, France;X-APPLE-RADIUS=72;X-TITLE=Institut O zen dermo clinic Spa 
 et centre de formation:43.100771;5.878895
END:VEVENT
END:VCALENDAR