BEGIN:VCALENDAR
VERSION:2.0
PRODID:Events Booking
BEGIN:VEVENT
UID:69e95319b9030
SUMMARY:FORMATION MADEROTHERAPIE VISAGE DRAINAGE
DESCRIPTION:Description
 Formation sur 1 jours avec attestation de compét
 ences à la clé. Cette technique consiste en un massage intense réalisé
  avec des instruments en bois de différentes tailles et formes\, spécial
 ement conçu... En savoir plus
 1 Jour(s) À partir de 250.00€
LOCATION:83500 Provence-Alpes-Côte d'Azur\, France
DTSTART:20280831T000000Z
DTSTAMP:20251103T154841Z
ORGANIZER;CN=Institut O'ZEN dermo clinic spa et centre de formation:MAILTO:
 contact@formationsozen.com
GEO:43.100771;5.878895
X-APPLE-STRUCTURED-LOCATION;VALUE=URI;X-ADDRESS=83500 Provence-Alpes-Côte 
 d'Azur\, France;X-APPLE-RADIUS=72;X-TITLE=Institut O zen dermo clinic Spa 
 et centre de formation:43.100771;5.878895
END:VEVENT
END:VCALENDAR