BEGIN:VCALENDAR
VERSION:2.0
PRODID:Events Booking
BEGIN:VEVENT
UID:69e954014f344
SUMMARY:FORMATION MASSAGE AMMA ASSIS EN 1 JOUR
DESCRIPTION:Description
 Formation AMMA ASSIS en 1 jours avec obtention de
  certificat de Compétence inclus à la fin du stage .... En savoir plus

  1 Jour(s) À partir de 350.00€
LOCATION:83500 Provence-Alpes-Côte d'Azur\, France
DTSTART:20280815T000000Z
DTSTAMP:20251103T162234Z
ORGANIZER;CN=Institut O'ZEN dermo clinic spa et centre de formation:MAILTO:
 contact@formationsozen.com
GEO:43.100771;5.878895
X-APPLE-STRUCTURED-LOCATION;VALUE=URI;X-ADDRESS=83500 Provence-Alpes-Côte 
 d'Azur\, France;X-APPLE-RADIUS=72;X-TITLE=Institut O zen dermo clinic Spa 
 et centre de formation:43.100771;5.878895
END:VEVENT
END:VCALENDAR