BEGIN:VCALENDAR
VERSION:2.0
PRODID:Events Booking
BEGIN:VEVENT
UID:69e95400370bd
SUMMARY:FORMATION MASSAGE CHI NEI TSANG SYSTEME DIGESTIF EN 2 JOURS
DESCRIPTION:Description
 Formation CHI NEI TSANG en 2 jours avec obtention
  de certificat de Compétence inclus à la fin du stage .Le Chi Nei Tsang 
 est un massage taoïste des organes internes originaire de l’ancienne Ch
 ine Ta... En savoir plus
 2 Jour(s) À partir de 800.00€
LOCATION:83500 Provence-Alpes-Côte d'Azur\, France
DTSTART:20280809T000000Z
DTSTAMP:20251103T162949Z
ORGANIZER;CN=Institut O'ZEN dermo clinic spa et centre de formation:MAILTO:
 contact@formationsozen.com
GEO:43.100771;5.878895
X-APPLE-STRUCTURED-LOCATION;VALUE=URI;X-ADDRESS=83500 Provence-Alpes-Côte 
 d'Azur\, France;X-APPLE-RADIUS=72;X-TITLE=Institut O zen dermo clinic Spa 
 et centre de formation:43.100771;5.878895
END:VEVENT
END:VCALENDAR