BEGIN:VCALENDAR
VERSION:2.0
PRODID:Events Booking
BEGIN:VEVENT
UID:69e9ebdde1792
SUMMARY:FORMATION MASSAGE CRANIEN SHIATSU EN 1 JOUR
DESCRIPTION:Description
 Formation Modelage Crânien en 1 jour avec obtent
 ion de certificat de Compétence inclus à la fin du stage . Ce massage s
 e pratique sur la tête\, le cou\, les épaules. Il réduit le stress\, le
 s tensions... En savoir plus
 1 Jour(s) À partir de 300.00€
LOCATION:83500 Provence-Alpes-Côte d'Azur\, France
DTSTART:20281219T000000Z
DTSTAMP:20251103T163227Z
ORGANIZER;CN=Institut O'ZEN dermo clinic spa et centre de formation:MAILTO:
 contact@formationsozen.com
GEO:43.100771;5.878895
X-APPLE-STRUCTURED-LOCATION;VALUE=URI;X-ADDRESS=83500 Provence-Alpes-Côte 
 d'Azur\, France;X-APPLE-RADIUS=72;X-TITLE=Institut O zen dermo clinic Spa 
 et centre de formation:43.100771;5.878895
END:VEVENT
END:VCALENDAR