BEGIN:VCALENDAR
VERSION:2.0
PRODID:Events Booking
BEGIN:VEVENT
UID:69e9d2c7b5ff2
SUMMARY:FORMATION MASSAGE RELAXATION COREENNE EN 1 JOUR
DESCRIPTION:Description
 Cette technique demande une grande interaction en
 tre donneur et receveur.
 La présence et l’attention du donneur génè
 re une détente profonde grâce à l’échange qui s’établit avec le .
 .. En savoir plus
 1 Jour(s) À partir de 300.00€
LOCATION:83500 Provence-Alpes-Côte d'Azur\, France
DTSTART:20281127T000000Z
DTSTAMP:20251103T164137Z
ORGANIZER;CN=Institut O'ZEN dermo clinic spa et centre de formation:MAILTO:
 contact@formationsozen.com
GEO:43.100771;5.878895
X-APPLE-STRUCTURED-LOCATION;VALUE=URI;X-ADDRESS=83500 Provence-Alpes-Côte 
 d'Azur\, France;X-APPLE-RADIUS=72;X-TITLE=Institut O zen dermo clinic Spa 
 et centre de formation:43.100771;5.878895
END:VEVENT
END:VCALENDAR