BEGIN:VCALENDAR
VERSION:2.0
PRODID:Events Booking
BEGIN:VEVENT
UID:69e954048d939
SUMMARY:FORMATION MASSOTHERAPEUTHE - OSTEO EN 6 JOURS
DESCRIPTION:Description
 FORMATION MASSOTHERAPEUTHE - OSTEO EN 6 JOURSPass
 ionné(e) par l’univers du bien-être ET de la medecine douce\, animé(e
 ) par l’envie de prendre soin des autres\, le métier de praticien en en
  osteo- articulaire semble parfait .Les débouchés profes... En savoir pl
 us
 6 Jour(s) À partir de 2000.00€
LOCATION:83500 Provence-Alpes-Côte d'Azur\, France
DTSTART:20280807T000000Z
DTSTAMP:20251103T153323Z
ORGANIZER;CN=Institut O'ZEN dermo clinic spa et centre de formation:MAILTO:
 contact@formationsozen.com
GEO:43.100771;5.878895
X-APPLE-STRUCTURED-LOCATION;VALUE=URI;X-ADDRESS=83500 Provence-Alpes-Côte 
 d'Azur\, France;X-APPLE-RADIUS=72;X-TITLE=Institut O zen dermo clinic Spa 
 et centre de formation:43.100771;5.878895
END:VEVENT
END:VCALENDAR