BEGIN:VCALENDAR
VERSION:2.0
PRODID:Events Booking
BEGIN:VEVENT
UID:69e954021b79a
SUMMARY:FORMATION MERIDIENS CHINOIS AVEC MOXAS VENTOUSES 2 jours
DESCRIPTION:Description
 Les méridiens chinois avec moxas ventouses est u
 ne technique traditionnelle chinoise. L’utilisation de moxas et de vento
 uses sur les méridiens vise à équilibrer l’énergie qui circule dans 
 le corps et ... En savoir plus
 2 Jour(s) À partir de 990.00€
LOCATION:83500 Provence-Alpes-Côte d'Azur\, France
DTSTART:20280802T000000Z
DTSTAMP:20251103T162551Z
ORGANIZER;CN=Institut O'ZEN dermo clinic spa et centre de formation:MAILTO:
 contact@formationsozen.com
GEO:43.100771;5.878895
X-APPLE-STRUCTURED-LOCATION;VALUE=URI;X-ADDRESS=83500 Provence-Alpes-Côte 
 d'Azur\, France;X-APPLE-RADIUS=72;X-TITLE=Institut O zen dermo clinic Spa 
 et centre de formation:43.100771;5.878895
END:VEVENT
END:VCALENDAR