BEGIN:VCALENDAR
VERSION:2.0
PRODID:Events Booking
BEGIN:VEVENT
UID:69e9540188d16
SUMMARY:FORMATION MODELAGE CALIFORNIEN EN 2 JOURS
DESCRIPTION:Description
 Formation Modelage Californien en 2 jours avec ob
 tention de certificat de Compétence inclus à la fin du stage .Le massage
  californien est le plus connu des massages bien-être en occident. Si vou
 s n... En savoir plus
 2 Jour(s) À partir de 400.00€
LOCATION:83500 Provence-Alpes-Côte d'Azur\, France
DTSTART:20280826T000000Z
DTSTAMP:20251103T163402Z
ORGANIZER;CN=Institut O'ZEN dermo clinic spa et centre de formation:MAILTO:
 contact@formationsozen.com
GEO:43.100771;5.878895
X-APPLE-STRUCTURED-LOCATION;VALUE=URI;X-ADDRESS=83500 Provence-Alpes-Côte 
 d'Azur\, France;X-APPLE-RADIUS=72;X-TITLE=Institut O zen dermo clinic Spa 
 et centre de formation:43.100771;5.878895
END:VEVENT
END:VCALENDAR