BEGIN:VCALENDAR
VERSION:2.0
PRODID:Events Booking
BEGIN:VEVENT
UID:69e952fe38e42
SUMMARY:FORMATION POINTS KNAPS ET TRIGGER EN 2 JOURS
DESCRIPTION:Description
 Knapp c'est le névralgique\, soulager des douleu
 rs en court circuitant le système nerveux.... Et ça sert aussi d'entreti
 en de la vitalité... Trigger c'est soulager les noeuds musculaires et sou
 lager l'... En savoir plus
 2 Jour(s) À partir de 600.00€
LOCATION:83500 Provence-Alpes-Côte d'Azur\, France
DTSTART:20280807T000000Z
DTSTAMP:20251103T162740Z
ORGANIZER;CN=Institut O'ZEN dermo clinic spa et centre de formation:MAILTO:
 contact@formationsozen.com
GEO:43.100771;5.878895
X-APPLE-STRUCTURED-LOCATION;VALUE=URI;X-ADDRESS=83500 Provence-Alpes-Côte 
 d'Azur\, France;X-APPLE-RADIUS=72;X-TITLE=Institut O zen dermo clinic Spa 
 et centre de formation:43.100771;5.878895
END:VEVENT
END:VCALENDAR