BEGIN:VCALENDAR
VERSION:2.0
PRODID:Events Booking
BEGIN:VEVENT
UID:69e94beeb7ee2
SUMMARY:FORMATION PROTHESISTE ONGULAIRE DEBUTANT
DESCRIPTION:Description
 FORMATION DEVENIR PROTHESISTE ONGULAIRE ONGLE CAP
 SULES AMERICAINE POUR DES ONGLES PARFAIT AVEC ATTESTATON DE COMPETENCE A L
 A CLE... En savoir plus
 5 Jour(s) À partir de 300.00€
LOCATION:83500 Provence-Alpes-Côte d'Azur\, France
DTSTART:20310804T000000Z
DTSTAMP:20251103T163951Z
ORGANIZER;CN=Institut O'ZEN dermo clinic spa et centre de formation:MAILTO:
 contact@formationsozen.com
GEO:43.100771;5.878895
X-APPLE-STRUCTURED-LOCATION;VALUE=URI;X-ADDRESS=83500 Provence-Alpes-Côte 
 d'Azur\, France;X-APPLE-RADIUS=72;X-TITLE=Institut O zen dermo clinic Spa 
 et centre de formation:43.100771;5.878895
END:VEVENT
END:VCALENDAR