BEGIN:VCALENDAR
VERSION:2.0
PRODID:Events Booking
BEGIN:VEVENT
UID:69e9973586302
SUMMARY:FORMATION REVITALISANT PLANTAIRE EN 2 JOURS
DESCRIPTION:Description
 Formation Modelage Revitalisant plantaire en 2 jo
 urs avec obtention de certificat de Compétence inclus à la fin du stage.
  Le modelage plantaire est une méthode de massage des pieds visant à obt
 enir ... En savoir plus
 2 Jour(s) À partir de 500.00€
LOCATION:83500 Provence-Alpes-Côte d'Azur\, France
DTSTART:20281003T000000Z
DTSTAMP:20251103T155257Z
ORGANIZER;CN=Institut O'ZEN dermo clinic spa et centre de formation:MAILTO:
 contact@formationsozen.com
GEO:43.100771;5.878895
X-APPLE-STRUCTURED-LOCATION;VALUE=URI;X-ADDRESS=83500 Provence-Alpes-Côte 
 d'Azur\, France;X-APPLE-RADIUS=72;X-TITLE=Institut O zen dermo clinic Spa 
 et centre de formation:43.100771;5.878895
END:VEVENT
END:VCALENDAR